BEGIN:VCALENDAR
VERSION:2.0
PRODID:spatie/icalendar-generator
DESCRIPTION:Events from Stand For The Constitution
X-WR-CALDESC:Events from Stand For The Constitution
REFRESH-INTERVAL;VALUE=DURATION:PT1440M
X-PUBLISHED-TTL:PT1440M
BEGIN:VTIMEZONE
TZID:America/Denver
BEGIN:STANDARD
DTSTART:20251102T020000Z
TZOFFSETFROM:-0600
TZOFFSETTO:-0700
END:STANDARD
BEGIN:DAYLIGHT
DTSTART:20260308T020000Z
TZOFFSETFROM:-0700
TZOFFSETTO:-0600
END:DAYLIGHT
END:VTIMEZONE
BEGIN:VTIMEZONE
TZID:UTC
BEGIN:STANDARD
DTSTART:20250728T075130Z
TZOFFSETFROM:+0000
TZOFFSETTO:+0000
END:STANDARD
END:VTIMEZONE
BEGIN:VEVENT
UID:109-66
DTSTAMP:20260424T075130Z
SUMMARY:Hogan Peterson on Gun Laws
LOCATION:Appleton Christian Church \,   2510 I-70 Frontage Road  GJ CO
ORGANIZER;CN=Ruth Kinnett:MAILTO:ruthkk97@gmail.com
DTSTART;TZID=America/Denver:20260119T183000
DTEND;TZID=America/Denver:20260119T200000
X-ALT-DESC;FMTTYPE=TEXT/HTML:Hogan Peterson who is a volunteer with Colorad
 o State Shooters Association will be presenting changes to the laws regard
 ing firearms.
CATEGORIES:General
URL;VALUE=URI:https://standfortheconstitutionmc.org/mc-events/hogan-peterso
 n-on-gun-laws/
METHOD:PUBLISH
END:VEVENT
END:VCALENDAR