BEGIN:VCALENDAR
VERSION:2.0
PRODID:spatie/icalendar-generator
DESCRIPTION:Events from Stand For The Constitution
X-WR-CALDESC:Events from Stand For The Constitution
REFRESH-INTERVAL;VALUE=DURATION:PT1440M
X-PUBLISHED-TTL:PT1440M
BEGIN:VTIMEZONE
TZID:America/Denver
BEGIN:STANDARD
DTSTART:20251102T020000Z
TZOFFSETFROM:-0600
TZOFFSETTO:-0700
END:STANDARD
BEGIN:DAYLIGHT
DTSTART:20260308T020000Z
TZOFFSETFROM:-0700
TZOFFSETTO:-0600
END:DAYLIGHT
END:VTIMEZONE
BEGIN:VTIMEZONE
TZID:UTC
BEGIN:STANDARD
DTSTART:20250728T001528Z
TZOFFSETFROM:+0000
TZOFFSETTO:+0000
END:STANDARD
END:VTIMEZONE
BEGIN:VEVENT
UID:115-71
DTSTAMP:20260424T001528Z
SUMMARY:Sean Pond for U.S. Senate
LOCATION:
ORGANIZER;CN=Ruth Kinnett:MAILTO:ruthkk97@gmail.com
DTSTART;TZID=America/Denver:20260223T183000
DTEND;TZID=America/Denver:20260223T200000
X-ALT-DESC;FMTTYPE=TEXT/HTML:Sean Pond will join us to share his platform a
 nd vision for his U.S. Senate run. Q and A after presentation
CATEGORIES:General
URL;VALUE=URI:https://standfortheconstitutionmc.org/mc-events/sean-pond-for
 -u-s-senate/
METHOD:PUBLISH
END:VEVENT
END:VCALENDAR