BEGIN:VCALENDAR
VERSION:2.0
PRODID:spatie/icalendar-generator
DESCRIPTION:Events from Stand For The Constitution
X-WR-CALDESC:Events from Stand For The Constitution
REFRESH-INTERVAL;VALUE=DURATION:PT1440M
X-PUBLISHED-TTL:PT1440M
BEGIN:VTIMEZONE
TZID:America/Denver
BEGIN:STANDARD
DTSTART:20251102T020000Z
TZOFFSETFROM:-0600
TZOFFSETTO:-0700
END:STANDARD
BEGIN:DAYLIGHT
DTSTART:20260308T020000Z
TZOFFSETFROM:-0700
TZOFFSETTO:-0600
END:DAYLIGHT
END:VTIMEZONE
BEGIN:VTIMEZONE
TZID:UTC
BEGIN:STANDARD
DTSTART:20250728T013420Z
TZOFFSETFROM:+0000
TZOFFSETTO:+0000
END:STANDARD
END:VTIMEZONE
BEGIN:VEVENT
UID:116-72
DTSTAMP:20260424T013420Z
SUMMARY:Mesa County candidate for sheriff - Ross Young
LOCATION:
ORGANIZER;CN=Ruth Kinnett:MAILTO:ruthkk97@gmail.com
DTSTART;TZID=America/Denver:20260216T183000
DTEND;TZID=America/Denver:20260216T200000
X-ALT-DESC;FMTTYPE=TEXT/HTML:Ross Young will outline his platform in his ru
 n for Mesa County Sheriff. Q and A after presentation.
CATEGORIES:General
URL;VALUE=URI:https://standfortheconstitutionmc.org/mc-events/mesa-county-c
 andidate-for-sheriff-ross-young/
METHOD:PUBLISH
END:VEVENT
END:VCALENDAR