BEGIN:VCALENDAR
VERSION:2.0
PRODID:spatie/icalendar-generator
DESCRIPTION:Events from Stand For The Constitution
X-WR-CALDESC:Events from Stand For The Constitution
REFRESH-INTERVAL;VALUE=DURATION:PT1440M
X-PUBLISHED-TTL:PT1440M
BEGIN:VTIMEZONE
TZID:America/Denver
BEGIN:STANDARD
DTSTART:20251102T020000Z
TZOFFSETFROM:-0600
TZOFFSETTO:-0700
END:STANDARD
BEGIN:DAYLIGHT
DTSTART:20260308T020000Z
TZOFFSETFROM:-0700
TZOFFSETTO:-0600
END:DAYLIGHT
END:VTIMEZONE
BEGIN:VTIMEZONE
TZID:UTC
BEGIN:STANDARD
DTSTART:20250727T180805Z
TZOFFSETFROM:+0000
TZOFFSETTO:+0000
END:STANDARD
END:VTIMEZONE
BEGIN:VEVENT
UID:118-74
DTSTAMP:20260423T180805Z
SUMMARY:Synergy Session
LOCATION:
ORGANIZER;CN=Ruth Kinnett:MAILTO:ruthkk97@gmail.com
DTSTART;TZID=America/Denver:20260406T183000
DTEND;TZID=America/Denver:20260406T200000
X-ALT-DESC;FMTTYPE=TEXT/HTML:Information relay with city\, county and schoo
 l board officials. Scheduled speakers are Bobby Daniel\, Barb Evenson\, an
 d Cody Kennedy.  Come join us for a Q &amp;amp\; A session after their presen
 tations.
CATEGORIES:General
URL;VALUE=URI:https://standfortheconstitutionmc.org/mc-events/synergy-sessi
 on/
METHOD:PUBLISH
END:VEVENT
END:VCALENDAR