BEGIN:VCALENDAR
VERSION:2.0
PRODID:spatie/icalendar-generator
DESCRIPTION:Events from Stand For The Constitution
X-WR-CALDESC:Events from Stand For The Constitution
REFRESH-INTERVAL;VALUE=DURATION:PT1440M
X-PUBLISHED-TTL:PT1440M
BEGIN:VTIMEZONE
TZID:America/Denver
BEGIN:STANDARD
DTSTART:20251102T020000Z
TZOFFSETFROM:-0600
TZOFFSETTO:-0700
END:STANDARD
BEGIN:DAYLIGHT
DTSTART:20260308T020000Z
TZOFFSETFROM:-0700
TZOFFSETTO:-0600
END:DAYLIGHT
END:VTIMEZONE
BEGIN:VTIMEZONE
TZID:UTC
BEGIN:STANDARD
DTSTART:20250727T181046Z
TZOFFSETFROM:+0000
TZOFFSETTO:+0000
END:STANDARD
END:VTIMEZONE
BEGIN:VEVENT
UID:124-78
DTSTAMP:20260423T181046Z
SUMMARY:SFTC Elections
LOCATION:
ORGANIZER;CN=Ruth Kinnett:MAILTO:ruthkk97@gmail.com
DTSTART;TZID=America/Denver:20260330T183000
DTEND;TZID=America/Denver:20260330T200000
X-ALT-DESC;FMTTYPE=TEXT/HTML:Time for election for the board for SFTC. As w
 e begin planning for the 2026–2027 year\, it’s time to consider new of
 ficers for our group. Strong leadership keeps us organized\, energized\, a
 nd moving forward with purpose. If you have a heart for service\, ideas to
  share\, or simply a willingness to step up\, we would&amp;hellip\;
CATEGORIES:General
URL;VALUE=URI:https://standfortheconstitutionmc.org/mc-events/sftc-election
 s/
METHOD:PUBLISH
END:VEVENT
END:VCALENDAR