BEGIN:VCALENDAR
VERSION:2.0
PRODID:spatie/icalendar-generator
DESCRIPTION:Events from Stand For The Constitution
X-WR-CALDESC:Events from Stand For The Constitution
REFRESH-INTERVAL;VALUE=DURATION:PT1440M
X-PUBLISHED-TTL:PT1440M
BEGIN:VTIMEZONE
TZID:America/Denver
BEGIN:STANDARD
DTSTART:20231105T020000Z
TZOFFSETFROM:-0600
TZOFFSETTO:-0700
END:STANDARD
BEGIN:DAYLIGHT
DTSTART:20240310T020000Z
TZOFFSETFROM:-0700
TZOFFSETTO:-0600
END:DAYLIGHT
BEGIN:STANDARD
DTSTART:20241103T020000Z
TZOFFSETFROM:-0600
TZOFFSETTO:-0700
END:STANDARD
END:VTIMEZONE
BEGIN:VTIMEZONE
TZID:UTC
BEGIN:STANDARD
DTSTART:20250728T003823Z
TZOFFSETFROM:+0000
TZOFFSETTO:+0000
END:STANDARD
END:VTIMEZONE
BEGIN:VEVENT
UID:39-4
DTSTAMP:20260424T003823Z
SUMMARY:May the 4th -{be with you}
LOCATION:Northeast Christian Church 2751 Patterson  Grand Junction CO
ORGANIZER;CN=Jenny Dalley:MAILTO:jennyall4him@yahoo.com
DTSTART;TZID=America/Denver:20240504T140000
DTEND;TZID=America/Denver:20240504T170000
X-ALT-DESC;FMTTYPE=TEXT/HTML:An afternoon of love\, Father for the Fatherle
 ss
CATEGORIES:General
URL;VALUE=URI:https://standfortheconstitutionmc.org/mc-events/may-the-4th-b
 e-with-you/
METHOD:PUBLISH
END:VEVENT
END:VCALENDAR