BEGIN:VCALENDAR
VERSION:2.0
PRODID:spatie/icalendar-generator
DESCRIPTION:Events from Stand For The Constitution
X-WR-CALDESC:Events from Stand For The Constitution
REFRESH-INTERVAL;VALUE=DURATION:PT1440M
X-PUBLISHED-TTL:PT1440M
BEGIN:VTIMEZONE
TZID:America/Denver
BEGIN:STANDARD
DTSTART:20231105T020000Z
TZOFFSETFROM:-0600
TZOFFSETTO:-0700
END:STANDARD
BEGIN:DAYLIGHT
DTSTART:20240310T020000Z
TZOFFSETFROM:-0700
TZOFFSETTO:-0600
END:DAYLIGHT
BEGIN:STANDARD
DTSTART:20241103T020000Z
TZOFFSETFROM:-0600
TZOFFSETTO:-0700
END:STANDARD
END:VTIMEZONE
BEGIN:VTIMEZONE
TZID:UTC
BEGIN:STANDARD
DTSTART:20250727T231805Z
TZOFFSETFROM:+0000
TZOFFSETTO:+0000
END:STANDARD
END:VTIMEZONE
BEGIN:VEVENT
UID:4-3
DTSTAMP:20260423T231805Z
SUMMARY:Meetings
LOCATION:Appleton Christian Church \,   2510 I-70 Frontage Road  GJ CO
ORGANIZER;CN=Jenny Dalley:MAILTO:jennyall4him@yahoo.com
RRULE:FREQ=WEEKLY;UNTIL=20250106T000000Z
DTSTART;TZID=America/Denver:20240513T183000
DTEND;TZID=America/Denver:20240513T203000
X-ALT-DESC;FMTTYPE=TEXT/HTML:Appleton Christian Church 2510 I-70 Frontage R
 oad\, GJ
CATEGORIES:General
URL;VALUE=URI:https://standfortheconstitutionmc.org/mc-events/meetings-2/?m
 c_id=4
METHOD:PUBLISH
END:VEVENT
END:VCALENDAR