BEGIN:VCALENDAR
VERSION:2.0
PRODID:spatie/icalendar-generator
DESCRIPTION:Events from Stand For The Constitution
X-WR-CALDESC:Events from Stand For The Constitution
REFRESH-INTERVAL;VALUE=DURATION:PT1440M
X-PUBLISHED-TTL:PT1440M
BEGIN:VTIMEZONE
TZID:America/Denver
BEGIN:STANDARD
DTSTART:20231105T020000Z
TZOFFSETFROM:-0600
TZOFFSETTO:-0700
END:STANDARD
BEGIN:DAYLIGHT
DTSTART:20240310T020000Z
TZOFFSETFROM:-0700
TZOFFSETTO:-0600
END:DAYLIGHT
BEGIN:STANDARD
DTSTART:20241103T020000Z
TZOFFSETFROM:-0600
TZOFFSETTO:-0700
END:STANDARD
END:VTIMEZONE
BEGIN:VTIMEZONE
TZID:UTC
BEGIN:STANDARD
DTSTART:20250728T032554Z
TZOFFSETFROM:+0000
TZOFFSETTO:+0000
END:STANDARD
END:VTIMEZONE
BEGIN:VEVENT
UID:48-13
DTSTAMP:20260424T032554Z
SUMMARY:YARD SALE!
LOCATION:First Presbyterian Church 3940 27 1/2 Road  Grand Junction Colorad
 o 81506
ORGANIZER;CN=Jenny Dalley:MAILTO:jennyall4him@yahoo.com
DTSTART;TZID=America/Denver:20240608T080000
DTEND;TZID=America/Denver:20240608T170000
X-ALT-DESC;FMTTYPE=TEXT/HTML:Hard Working Yard Sales Staff at Work!
CATEGORIES:General
URL;VALUE=URI:https://standfortheconstitutionmc.org/mc-events/yard-sale/
METHOD:PUBLISH
END:VEVENT
END:VCALENDAR