BEGIN:VCALENDAR
VERSION:2.0
PRODID:spatie/icalendar-generator
DESCRIPTION:Events from Stand For The Constitution
X-WR-CALDESC:Events from Stand For The Constitution
REFRESH-INTERVAL;VALUE=DURATION:PT1440M
X-PUBLISHED-TTL:PT1440M
BEGIN:VTIMEZONE
TZID:America/Denver
BEGIN:DAYLIGHT
DTSTART:20250309T020000Z
TZOFFSETFROM:-0700
TZOFFSETTO:-0600
END:DAYLIGHT
BEGIN:STANDARD
DTSTART:20251102T020000Z
TZOFFSETFROM:-0600
TZOFFSETTO:-0700
END:STANDARD
BEGIN:DAYLIGHT
DTSTART:20260308T020000Z
TZOFFSETFROM:-0700
TZOFFSETTO:-0600
END:DAYLIGHT
END:VTIMEZONE
BEGIN:VTIMEZONE
TZID:UTC
BEGIN:STANDARD
DTSTART:20250728T001020Z
TZOFFSETFROM:+0000
TZOFFSETTO:+0000
END:STANDARD
END:VTIMEZONE
BEGIN:VEVENT
UID:62-26
DTSTAMP:20260424T001020Z
SUMMARY:Stand for the Constitution Yard Sale
LOCATION:Messiah Lutheran Church East Parking Lot 840 N. 11th Street  Grand
  Junction CO
ORGANIZER;CN=Ruth Kinnett:MAILTO:ruthkk97@gmail.com
DTSTART;TZID=America/Denver;VALUE=DATE:20250913
DTEND;TZID=America/Denver;VALUE=DATE:20250914
X-ALT-DESC;FMTTYPE=TEXT/HTML:Fund raiser for Stand for the Constitution.  
 Come shop for those items you didn't know you needed!
CATEGORIES:General
URL;VALUE=URI:https://standfortheconstitutionmc.org/mc-events/stand-for-the
 -constitution-yard-sale/
METHOD:PUBLISH
END:VEVENT
END:VCALENDAR