BEGIN:VCALENDAR
VERSION:2.0
PRODID:spatie/icalendar-generator
DESCRIPTION:Events from Stand For The Constitution
X-WR-CALDESC:Events from Stand For The Constitution
REFRESH-INTERVAL;VALUE=DURATION:PT1440M
X-PUBLISHED-TTL:PT1440M
BEGIN:VTIMEZONE
TZID:America/Denver
BEGIN:DAYLIGHT
DTSTART:20250309T020000Z
TZOFFSETFROM:-0700
TZOFFSETTO:-0600
END:DAYLIGHT
BEGIN:STANDARD
DTSTART:20251102T020000Z
TZOFFSETFROM:-0600
TZOFFSETTO:-0700
END:STANDARD
BEGIN:DAYLIGHT
DTSTART:20260308T020000Z
TZOFFSETFROM:-0700
TZOFFSETTO:-0600
END:DAYLIGHT
END:VTIMEZONE
BEGIN:VTIMEZONE
TZID:UTC
BEGIN:STANDARD
DTSTART:20250727T225548Z
TZOFFSETFROM:+0000
TZOFFSETTO:+0000
END:STANDARD
END:VTIMEZONE
BEGIN:VEVENT
UID:84-44
DTSTAMP:20260423T225548Z
SUMMARY:Constitution Day Proclamation
LOCATION:Old County Court House 544 Rood Avenue  Grand Junction CO 81501
ORGANIZER;CN=Ruth Kinnett:MAILTO:ruthkk97@gmail.com
DTSTART;TZID=America/Denver:20250917T120000
DTEND;TZID=America/Denver:20250917T130000
X-ALT-DESC;FMTTYPE=TEXT/HTML:Proclamations from both county and city offici
 als.  Patriotic music by a barbershop quartet\, speech by a naturalized c
 itizen - Mathias Mulumba\, and message by a local constitutional history b
 uff\, Andrea Haitz. To be held in the County Commissioner hearing room of 
 the old Mesa County Courthouse.
CATEGORIES:General
URL;VALUE=URI:https://standfortheconstitutionmc.org/mc-events/constitution-
 day-proclamation/
METHOD:PUBLISH
END:VEVENT
END:VCALENDAR