BEGIN:VCALENDAR
VERSION:2.0
PRODID:spatie/icalendar-generator
DESCRIPTION:Events from Stand For The Constitution
X-WR-CALDESC:Events from Stand For The Constitution
REFRESH-INTERVAL;VALUE=DURATION:PT1440M
X-PUBLISHED-TTL:PT1440M
BEGIN:VTIMEZONE
TZID:America/Denver
BEGIN:DAYLIGHT
DTSTART:20250309T020000Z
TZOFFSETFROM:-0700
TZOFFSETTO:-0600
END:DAYLIGHT
BEGIN:STANDARD
DTSTART:20251102T020000Z
TZOFFSETFROM:-0600
TZOFFSETTO:-0700
END:STANDARD
BEGIN:DAYLIGHT
DTSTART:20260308T020000Z
TZOFFSETFROM:-0700
TZOFFSETTO:-0600
END:DAYLIGHT
END:VTIMEZONE
BEGIN:VTIMEZONE
TZID:UTC
BEGIN:STANDARD
DTSTART:20250727T194343Z
TZOFFSETFROM:+0000
TZOFFSETTO:+0000
END:STANDARD
END:VTIMEZONE
BEGIN:VEVENT
UID:87-46
DTSTAMP:20260423T194343Z
SUMMARY:Charlie Kirk Legacy Rally - Turning Point USA
LOCATION:
ORGANIZER;CN=Ruth Kinnett:MAILTO:ruthkk97@gmail.com
DTSTART;TZID=America/Denver:20251011T173000
DTEND;TZID=America/Denver:20251011T183000
X-ALT-DESC;FMTTYPE=TEXT/HTML:An event to honor Charlie Kirk's legacy with a
 ction and purpose. Powerful speakers Worship and community
CATEGORIES:General
URL;VALUE=URI:https://standfortheconstitutionmc.org/mc-events/charlie-kirk-
 legacy-rally-turning-point-usa/
METHOD:PUBLISH
END:VEVENT
END:VCALENDAR