BEGIN:VCALENDAR
VERSION:2.0
PRODID:spatie/icalendar-generator
DESCRIPTION:Events from Stand For The Constitution
X-WR-CALDESC:Events from Stand For The Constitution
REFRESH-INTERVAL;VALUE=DURATION:PT1440M
X-PUBLISHED-TTL:PT1440M
BEGIN:VTIMEZONE
TZID:America/Denver
BEGIN:DAYLIGHT
DTSTART:20250309T020000Z
TZOFFSETFROM:-0700
TZOFFSETTO:-0600
END:DAYLIGHT
BEGIN:STANDARD
DTSTART:20251102T020000Z
TZOFFSETFROM:-0600
TZOFFSETTO:-0700
END:STANDARD
BEGIN:DAYLIGHT
DTSTART:20260308T020000Z
TZOFFSETFROM:-0700
TZOFFSETTO:-0600
END:DAYLIGHT
END:VTIMEZONE
BEGIN:VTIMEZONE
TZID:UTC
BEGIN:STANDARD
DTSTART:20250727T232827Z
TZOFFSETFROM:+0000
TZOFFSETTO:+0000
END:STANDARD
END:VTIMEZONE
BEGIN:VEVENT
UID:90-49
DTSTAMP:20260423T232827Z
SUMMARY:Movie Night - \"15 Days\"
LOCATION:
ORGANIZER;CN=Ruth Kinnett:MAILTO:ruthkk97@gmail.com
DTSTART;TZID=America/Denver:20251020T183000
DTEND;TZID=America/Denver:20251020T203000
X-ALT-DESC;FMTTYPE=TEXT/HTML:The real story of America's Pandemic School Cl
 osures. This is a Donation Benefit RESTORE CHILDHOOD\, a national nonprofi
 t founded to protect children from governmental overreach in health and ed
 ucation.  We believe that parents are the best advocates for their childr
 en\, so we empower parents with educational tools and research on critical
  issues to create a&amp;hellip\;
CATEGORIES:General
URL;VALUE=URI:https://standfortheconstitutionmc.org/mc-events/movie-night-1
 5-days/
METHOD:PUBLISH
END:VEVENT
END:VCALENDAR