BEGIN:VCALENDAR
VERSION:2.0
PRODID:spatie/icalendar-generator
DESCRIPTION:Events from Stand For The Constitution
X-WR-CALDESC:Events from Stand For The Constitution
REFRESH-INTERVAL;VALUE=DURATION:PT1440M
X-PUBLISHED-TTL:PT1440M
BEGIN:VTIMEZONE
TZID:America/Denver
BEGIN:STANDARD
DTSTART:20251102T020000Z
TZOFFSETFROM:-0600
TZOFFSETTO:-0700
END:STANDARD
BEGIN:DAYLIGHT
DTSTART:20260308T020000Z
TZOFFSETFROM:-0700
TZOFFSETTO:-0600
END:DAYLIGHT
END:VTIMEZONE
BEGIN:VTIMEZONE
TZID:UTC
BEGIN:STANDARD
DTSTART:20250728T160248Z
TZOFFSETFROM:+0000
TZOFFSETTO:+0000
END:STANDARD
END:VTIMEZONE
BEGIN:VEVENT
UID:99-57
DTSTAMP:20260424T160248Z
SUMMARY:William Tedrow Candidate for House District #54
LOCATION:
ORGANIZER;CN=Ruth Kinnett:MAILTO:ruthkk97@gmail.com
DTSTART;TZID=America/Denver;VALUE=DATE:20251215
DTEND;TZID=America/Denver;VALUE=DATE:20251216
X-ALT-DESC;FMTTYPE=TEXT/HTML:William Tedrow\, a constitutional conservative
 \, Mayor Pro-Tem of the City of Delta\, is running against Jason Bias and 
 Nina Anderson for House District #54.
CATEGORIES:General
URL;VALUE=URI:https://standfortheconstitutionmc.org/mc-events/william-tedro
 w-candidate-for-house-district-54/
METHOD:PUBLISH
END:VEVENT
END:VCALENDAR