BEGIN:VCALENDAR
VERSION:2.0
PRODID:spatie/icalendar-generator
DESCRIPTION:Events from Stand For The Constitution
X-WR-CALDESC:Events from Stand For The Constitution
REFRESH-INTERVAL;VALUE=DURATION:PT1440M
X-PUBLISHED-TTL:PT1440M
BEGIN:VTIMEZONE
TZID:America/Denver
BEGIN:STANDARD
DTSTART:20251102T020000Z
TZOFFSETFROM:-0600
TZOFFSETTO:-0700
END:STANDARD
BEGIN:DAYLIGHT
DTSTART:20260308T020000Z
TZOFFSETFROM:-0700
TZOFFSETTO:-0600
END:DAYLIGHT
END:VTIMEZONE
BEGIN:VTIMEZONE
TZID:UTC
BEGIN:STANDARD
DTSTART:20250728T114746Z
TZOFFSETFROM:+0000
TZOFFSETTO:+0000
END:STANDARD
END:VTIMEZONE
BEGIN:VEVENT
UID:108-65
DTSTAMP:20260424T114746Z
SUMMARY:Caucus Training
LOCATION:Bray Training Center 640 Belford Avenue  Grand Junction CO 81501
ORGANIZER;CN=Ruth Kinnett:MAILTO:ruthkk97@gmail.com
DTSTART;TZID=America/Denver:20260117T093000
DTEND;TZID=America/Denver:20260117T113000
X-ALT-DESC;FMTTYPE=TEXT/HTML:Caucus training.  Learn the \"in's and out's\
 " of causus.
CATEGORIES:General
URL;VALUE=URI:https://standfortheconstitutionmc.org/mc-events/caucus-traini
 ng/
METHOD:PUBLISH
END:VEVENT
END:VCALENDAR