BEGIN:VCALENDAR
VERSION:2.0
PRODID:spatie/icalendar-generator
DESCRIPTION:Events from Stand For The Constitution
X-WR-CALDESC:Events from Stand For The Constitution
REFRESH-INTERVAL;VALUE=DURATION:PT1440M
X-PUBLISHED-TTL:PT1440M
BEGIN:VTIMEZONE
TZID:America/Denver
BEGIN:STANDARD
DTSTART:20251102T020000Z
TZOFFSETFROM:-0600
TZOFFSETTO:-0700
END:STANDARD
BEGIN:DAYLIGHT
DTSTART:20260308T020000Z
TZOFFSETFROM:-0700
TZOFFSETTO:-0600
END:DAYLIGHT
END:VTIMEZONE
BEGIN:VTIMEZONE
TZID:UTC
BEGIN:STANDARD
DTSTART:20250728T080116Z
TZOFFSETFROM:+0000
TZOFFSETTO:+0000
END:STANDARD
END:VTIMEZONE
BEGIN:VEVENT
UID:114-67
DTSTAMP:20260424T080116Z
SUMMARY:Hope Scheppelman Candidate for CD3
LOCATION:Appleton Christian Church \,   2510 I-70 Frontage Road  GJ CO
ORGANIZER;CN=Ruth Kinnett:MAILTO:ruthkk97@gmail.com
DTSTART;TZID=America/Denver:20260126T183000
DTEND;TZID=America/Denver:20260126T200000
X-ALT-DESC;FMTTYPE=TEXT/HTML:Hope Scheppelman will give reasons why she sho
 uld be the new CD3 candidate.
CATEGORIES:General
URL;VALUE=URI:https://standfortheconstitutionmc.org/mc-events/hope-scheppel
 man-candidate-for-cd3/
METHOD:PUBLISH
END:VEVENT
END:VCALENDAR