BEGIN:VCALENDAR
VERSION:2.0
PRODID:spatie/icalendar-generator
DESCRIPTION:Events from Stand For The Constitution
X-WR-CALDESC:Events from Stand For The Constitution
REFRESH-INTERVAL;VALUE=DURATION:PT1440M
X-PUBLISHED-TTL:PT1440M
BEGIN:VTIMEZONE
TZID:America/Denver
BEGIN:STANDARD
DTSTART:20231105T020000Z
TZOFFSETFROM:-0600
TZOFFSETTO:-0700
END:STANDARD
BEGIN:DAYLIGHT
DTSTART:20240310T020000Z
TZOFFSETFROM:-0700
TZOFFSETTO:-0600
END:DAYLIGHT
BEGIN:STANDARD
DTSTART:20241103T020000Z
TZOFFSETFROM:-0600
TZOFFSETTO:-0700
END:STANDARD
END:VTIMEZONE
BEGIN:VTIMEZONE
TZID:UTC
BEGIN:STANDARD
DTSTART:20250727T230543Z
TZOFFSETFROM:+0000
TZOFFSETTO:+0000
END:STANDARD
END:VTIMEZONE
BEGIN:VEVENT
UID:40-5
DTSTAMP:20260423T230543Z
SUMMARY:Merle Miller H-A-T-S Tour
LOCATION:Clifton Christian Church 3241 F 1/4 Rd\,   Clifton CO
ORGANIZER;CN=Jenny Dalley:MAILTO:jennyall4him@yahoo.com
DTSTART;TZID=America/Denver:20240517T190000
DTEND;TZID=America/Denver:20240517T210000
X-ALT-DESC;FMTTYPE=TEXT/HTML:
CATEGORIES:General
URL;VALUE=URI:https://standfortheconstitutionmc.org/mc-events/merle-miller-
 h-a-t-s-tour/
METHOD:PUBLISH
END:VEVENT
END:VCALENDAR