BEGIN:VCALENDAR
VERSION:2.0
PRODID:spatie/icalendar-generator
DESCRIPTION:Events from Stand For The Constitution
X-WR-CALDESC:Events from Stand For The Constitution
REFRESH-INTERVAL;VALUE=DURATION:PT1440M
X-PUBLISHED-TTL:PT1440M
BEGIN:VTIMEZONE
TZID:America/Denver
BEGIN:STANDARD
DTSTART:20231105T020000Z
TZOFFSETFROM:-0600
TZOFFSETTO:-0700
END:STANDARD
BEGIN:DAYLIGHT
DTSTART:20240310T020000Z
TZOFFSETFROM:-0700
TZOFFSETTO:-0600
END:DAYLIGHT
BEGIN:STANDARD
DTSTART:20241103T020000Z
TZOFFSETFROM:-0600
TZOFFSETTO:-0700
END:STANDARD
END:VTIMEZONE
BEGIN:VTIMEZONE
TZID:UTC
BEGIN:STANDARD
DTSTART:20250728T065515Z
TZOFFSETFROM:+0000
TZOFFSETTO:+0000
END:STANDARD
END:VTIMEZONE
BEGIN:VEVENT
UID:53-18
DTSTAMP:20260424T065515Z
SUMMARY:4th of July Parade!
LOCATION:
ORGANIZER;CN=Jenny Dalley:MAILTO:jennyall4him@yahoo.com
DTSTART;TZID=America/Denver:20240704T084500
DTEND;TZID=America/Denver:20240704T100000
X-ALT-DESC;FMTTYPE=TEXT/HTML:Come join us!!! We will be meeting at 760 ROOD
  Ave. Picnic after the parade\, 11:00 a.m.-1:00 p.m. (after the parade) Ba
 rbeque and ice cream at Express Employment Professionals  725 Pitkin Av
 e\, Grand Junction $10 minimum donation please. Let's celebrate together!
  Additional donations appreciated to help our candidates get elected!
CATEGORIES:General
URL;VALUE=URI:https://standfortheconstitutionmc.org/mc-events/4th-of-july-p
 arade/
METHOD:PUBLISH
END:VEVENT
END:VCALENDAR