BEGIN:VCALENDAR
VERSION:2.0
PRODID:spatie/icalendar-generator
DESCRIPTION:Events from Stand For The Constitution
X-WR-CALDESC:Events from Stand For The Constitution
REFRESH-INTERVAL;VALUE=DURATION:PT1440M
X-PUBLISHED-TTL:PT1440M
BEGIN:VTIMEZONE
TZID:America/Denver
BEGIN:DAYLIGHT
DTSTART:20250309T020000Z
TZOFFSETFROM:-0700
TZOFFSETTO:-0600
END:DAYLIGHT
BEGIN:STANDARD
DTSTART:20251102T020000Z
TZOFFSETFROM:-0600
TZOFFSETTO:-0700
END:STANDARD
END:VTIMEZONE
BEGIN:VTIMEZONE
TZID:UTC
BEGIN:STANDARD
DTSTART:20250728T052454Z
TZOFFSETFROM:+0000
TZOFFSETTO:+0000
END:STANDARD
END:VTIMEZONE
BEGIN:VEVENT
UID:69-32
DTSTAMP:20260424T052454Z
SUMMARY:Movie  - The Art Club with Erin Lee
LOCATION:
ORGANIZER;CN=Ruth Kinnett:MAILTO:ruthkk97@gmail.com
DTSTART;TZID=America/Denver:20250804T183000
DTEND;TZID=America/Denver:20250804T203000
X-ALT-DESC;FMTTYPE=TEXT/HTML:Art Club is a powerful documentary produced by
  Erin and Jon Lee alongside former Colorado state senator Kevin Lundberg. 
 It chronicles the harrowing experience of the Lee family after their daugh
 ter was unknowingly exposed to gender ideology in what was presented as an
  after-school “art club.” Featuring firsthand testimony from Erin and 
 Jon\, expert commentary\,&amp;hellip\;
CATEGORIES:General
URL;VALUE=URI:https://standfortheconstitutionmc.org/mc-events/movie-the-art
 -club-with-erin-lee/
METHOD:PUBLISH
END:VEVENT
END:VCALENDAR