BEGIN:VCALENDAR
VERSION:2.0
PRODID:spatie/icalendar-generator
DESCRIPTION:Events from Stand For The Constitution
X-WR-CALDESC:Events from Stand For The Constitution
REFRESH-INTERVAL;VALUE=DURATION:PT1440M
X-PUBLISHED-TTL:PT1440M
BEGIN:VTIMEZONE
TZID:America/Denver
BEGIN:DAYLIGHT
DTSTART:20250309T020000Z
TZOFFSETFROM:-0700
TZOFFSETTO:-0600
END:DAYLIGHT
BEGIN:STANDARD
DTSTART:20251102T020000Z
TZOFFSETFROM:-0600
TZOFFSETTO:-0700
END:STANDARD
END:VTIMEZONE
BEGIN:VTIMEZONE
TZID:UTC
BEGIN:STANDARD
DTSTART:20250728T061121Z
TZOFFSETFROM:+0000
TZOFFSETTO:+0000
END:STANDARD
END:VTIMEZONE
BEGIN:VEVENT
UID:71-34
DTSTAMP:20260424T061121Z
SUMMARY:Still Standing Truck Rally
LOCATION:Teller Arms Shopping Center 2401 North Avenue  Grand Junction CO 8
 1501
ORGANIZER;CN=Ruth Kinnett:MAILTO:ruthkk97@gmail.com
DTSTART;TZID=America/Denver:20250802T090000
DTEND;TZID=America/Denver:20250802T110000
X-ALT-DESC;FMTTYPE=TEXT/HTML:No speeches. No fluff. Just trucks and vehicle
 s\, patriots\, and purpose. We’re coming together to show Colorado that 
 we’re STILL STANDING — and we’re not backing down. Fundraiser items 
 will be available to support Trump Patriots\, a new Colorado movement star
 ting one county at a time. Our mission: Take back Mesa County Elect a real
 &amp;hellip\;
CATEGORIES:General
URL;VALUE=URI:https://standfortheconstitutionmc.org/mc-events/still-standin
 g-truck-rally/
METHOD:PUBLISH
END:VEVENT
END:VCALENDAR