BEGIN:VCALENDAR
VERSION:2.0
PRODID:spatie/icalendar-generator
DESCRIPTION:Events from Stand For The Constitution
X-WR-CALDESC:Events from Stand For The Constitution
REFRESH-INTERVAL;VALUE=DURATION:PT1440M
X-PUBLISHED-TTL:PT1440M
BEGIN:VTIMEZONE
TZID:America/Denver
BEGIN:DAYLIGHT
DTSTART:20250309T020000Z
TZOFFSETFROM:-0700
TZOFFSETTO:-0600
END:DAYLIGHT
BEGIN:STANDARD
DTSTART:20251102T020000Z
TZOFFSETFROM:-0600
TZOFFSETTO:-0700
END:STANDARD
BEGIN:DAYLIGHT
DTSTART:20260308T020000Z
TZOFFSETFROM:-0700
TZOFFSETTO:-0600
END:DAYLIGHT
END:VTIMEZONE
BEGIN:VTIMEZONE
TZID:UTC
BEGIN:STANDARD
DTSTART:20250728T034739Z
TZOFFSETFROM:+0000
TZOFFSETTO:+0000
END:STANDARD
END:VTIMEZONE
BEGIN:VEVENT
UID:89-48
DTSTAMP:20260424T034739Z
SUMMARY:Scott Bottoms - Candidate for Governor
LOCATION:Appleton Christian Church \,   2510 I-70 Frontage Road  GJ CO
ORGANIZER;CN=Ruth Kinnett:MAILTO:ruthkk97@gmail.com
DTSTART;TZID=America/Denver:20251110T183000
DTEND;TZID=America/Denver:20251110T200000
X-ALT-DESC;FMTTYPE=TEXT/HTML:Scott Bottoms is a Colorado state representati
 ve\, pastor\, and Navy veteran — is running for governor on a strong con
 servative platform focused on faith\, family\, and reclaiming Colorado’s
  values. His stances include strong opposition to abortion. For example\, 
 he sponsored legislation concerning regulation of medical facilities perfo
 rming induced abortions after the first trimester. He has&amp;hellip\;
CATEGORIES:General
URL;VALUE=URI:https://standfortheconstitutionmc.org/mc-events/scott-bottoms
 -candidate-for-governor/
METHOD:PUBLISH
END:VEVENT
END:VCALENDAR